BEGIN:VCALENDAR
VERSION:2.0
PRODID:-//Trout Creek CDD - ECPv6.15.11//NONSGML v1.0//EN
CALSCALE:GREGORIAN
METHOD:PUBLISH
X-WR-CALNAME:Trout Creek CDD
X-ORIGINAL-URL:http://troutcreekcdd.com
X-WR-CALDESC:Events for Trout Creek CDD
REFRESH-INTERVAL;VALUE=DURATION:PT1H
X-Robots-Tag:noindex
X-PUBLISHED-TTL:PT1H
BEGIN:VTIMEZONE
TZID:America/New_York
BEGIN:DAYLIGHT
TZOFFSETFROM:-0500
TZOFFSETTO:-0400
TZNAME:EDT
DTSTART:20230312T070000
END:DAYLIGHT
BEGIN:STANDARD
TZOFFSETFROM:-0400
TZOFFSETTO:-0500
TZNAME:EST
DTSTART:20231105T060000
END:STANDARD
BEGIN:DAYLIGHT
TZOFFSETFROM:-0500
TZOFFSETTO:-0400
TZNAME:EDT
DTSTART:20240310T070000
END:DAYLIGHT
BEGIN:STANDARD
TZOFFSETFROM:-0400
TZOFFSETTO:-0500
TZNAME:EST
DTSTART:20241103T060000
END:STANDARD
BEGIN:DAYLIGHT
TZOFFSETFROM:-0500
TZOFFSETTO:-0400
TZNAME:EDT
DTSTART:20250309T070000
END:DAYLIGHT
BEGIN:STANDARD
TZOFFSETFROM:-0400
TZOFFSETTO:-0500
TZNAME:EST
DTSTART:20251102T060000
END:STANDARD
BEGIN:DAYLIGHT
TZOFFSETFROM:-0500
TZOFFSETTO:-0400
TZNAME:EDT
DTSTART:20260308T070000
END:DAYLIGHT
BEGIN:STANDARD
TZOFFSETFROM:-0400
TZOFFSETTO:-0500
TZNAME:EST
DTSTART:20261101T060000
END:STANDARD
END:VTIMEZONE
BEGIN:VEVENT
DTSTART;TZID=America/New_York:20251119T180000
DTEND;TZID=America/New_York:20251119T180000
DTSTAMP:20260421T024727
CREATED:20250924T184610Z
LAST-MODIFIED:20250924T184951Z
UID:10010-1763575200-1763575200@troutcreekcdd.com
SUMMARY:Trout Creek CDD – Regular Meeting November 2025
DESCRIPTION:
URL:http://troutcreekcdd.com/event/trout-creek-cdd-regular-meeting-november-2025-2
LOCATION:Kayak Club\, 100 Kayak Way\, St. Augustine\, FL\, 32092\, United States
END:VEVENT
BEGIN:VEVENT
DTSTART;TZID=America/New_York:20251105T100000
DTEND;TZID=America/New_York:20251105T100000
DTSTAMP:20260421T024727
CREATED:20251028T205212Z
LAST-MODIFIED:20251028T205212Z
UID:10093-1762336800-1762336800@troutcreekcdd.com
SUMMARY:Trout Creek CDD – Workshop Meeting November 2025
DESCRIPTION:
URL:http://troutcreekcdd.com/event/trout-creek-cdd-workshop-meeting-november-2025
LOCATION:Kayak Club\, 100 Kayak Way\, St. Augustine\, FL\, 32092\, United States
END:VEVENT
BEGIN:VEVENT
DTSTART;TZID=America/New_York:20251029T160000
DTEND;TZID=America/New_York:20251029T160000
DTSTAMP:20260421T024727
CREATED:20250924T184610Z
LAST-MODIFIED:20251008T202656Z
UID:10009-1761753600-1761753600@troutcreekcdd.com
SUMMARY:Trout Creek CDD – Regular Meeting October 2025
DESCRIPTION:
URL:http://troutcreekcdd.com/event/trout-creek-cdd-regular-meeting-october-2025-2
LOCATION:Kayak Club\, 100 Kayak Way\, St. Augustine\, FL\, 32092\, United States
END:VEVENT
BEGIN:VEVENT
DTSTART;TZID=America/New_York:20250917T180000
DTEND;TZID=America/New_York:20250917T180000
DTSTAMP:20260421T024727
CREATED:20240924T191434Z
LAST-MODIFIED:20241121T174753Z
UID:9646-1758132000-1758132000@troutcreekcdd.com
SUMMARY:Trout Creek CDD – Regular Meeting September 2025
DESCRIPTION:
URL:http://troutcreekcdd.com/event/trout-creek-cdd-regular-meeting-september-2025
LOCATION:Kayak Club\, 100 Kayak Way\, St. Augustine\, FL\, 32092\, United States
END:VEVENT
BEGIN:VEVENT
DTSTART;TZID=America/New_York:20250909T100000
DTEND;TZID=America/New_York:20250909T100000
DTSTAMP:20260421T024727
CREATED:20250822T160643Z
LAST-MODIFIED:20250822T160643Z
UID:9962-1757412000-1757412000@troutcreekcdd.com
SUMMARY:Trout Creek CDD – Workshop Meeting September 2025
DESCRIPTION:
URL:http://troutcreekcdd.com/event/trout-creek-cdd-workshop-meeting-september-2025
LOCATION:Kayak Club\, 100 Kayak Way\, St. Augustine\, FL\, 32092\, United States
END:VEVENT
BEGIN:VEVENT
DTSTART;TZID=America/New_York:20250820T180000
DTEND;TZID=America/New_York:20250820T180000
DTSTAMP:20260421T024727
CREATED:20240924T191433Z
LAST-MODIFIED:20241121T174759Z
UID:9645-1755712800-1755712800@troutcreekcdd.com
SUMMARY:Trout Creek CDD – Regular Meeting August 2025
DESCRIPTION:
URL:http://troutcreekcdd.com/event/trout-creek-cdd-regular-meeting-august-2025
LOCATION:Kayak Club\, 100 Kayak Way\, St. Augustine\, FL\, 32092\, United States
END:VEVENT
BEGIN:VEVENT
DTSTART;TZID=America/New_York:20250813T100000
DTEND;TZID=America/New_York:20250813T100000
DTSTAMP:20260421T024727
CREATED:20250623T164656Z
LAST-MODIFIED:20250623T164656Z
UID:9919-1755079200-1755079200@troutcreekcdd.com
SUMMARY:Trout Creek CDD - Workshop Meeting August 2025
DESCRIPTION:
URL:http://troutcreekcdd.com/event/trout-creek-cdd-workshop-meeting-august-2025
LOCATION:Kayak Club\, 100 Kayak Way\, St. Augustine\, FL\, 32092\, United States
END:VEVENT
BEGIN:VEVENT
DTSTART;TZID=America/New_York:20250716T180000
DTEND;TZID=America/New_York:20250716T180000
DTSTAMP:20260421T024727
CREATED:20240924T191424Z
LAST-MODIFIED:20241121T174805Z
UID:9644-1752688800-1752688800@troutcreekcdd.com
SUMMARY:Trout Creek CDD – Regular Meeting July 2025
DESCRIPTION:
URL:http://troutcreekcdd.com/event/trout-creek-cdd-regular-meeting-july-2025
LOCATION:Kayak Club\, 100 Kayak Way\, St. Augustine\, FL\, 32092\, United States
END:VEVENT
BEGIN:VEVENT
DTSTART;TZID=America/New_York:20250701T100000
DTEND;TZID=America/New_York:20250701T100000
DTSTAMP:20260421T024727
CREATED:20250619T125853Z
LAST-MODIFIED:20250619T125853Z
UID:9914-1751364000-1751364000@troutcreekcdd.com
SUMMARY:Trout Creek CDD - Workshop Meeting July 2025
DESCRIPTION:
URL:http://troutcreekcdd.com/event/trout-creek-cdd-workshop-meeting-july-2025
LOCATION:Kayak Club\, 100 Kayak Way\, St. Augustine\, FL\, 32092\, United States
END:VEVENT
BEGIN:VEVENT
DTSTART;TZID=America/New_York:20250618T180000
DTEND;TZID=America/New_York:20250618T180000
DTSTAMP:20260421T024727
CREATED:20240924T191422Z
LAST-MODIFIED:20241121T174841Z
UID:9643-1750269600-1750269600@troutcreekcdd.com
SUMMARY:Trout Creek CDD – Regular Meeting June 2025
DESCRIPTION:
URL:http://troutcreekcdd.com/event/trout-creek-cdd-regular-meeting-june-2025
LOCATION:Kayak Club\, 100 Kayak Way\, St. Augustine\, FL\, 32092\, United States
END:VEVENT
BEGIN:VEVENT
DTSTART;TZID=America/New_York:20250521T180000
DTEND;TZID=America/New_York:20250521T180000
DTSTAMP:20260421T024727
CREATED:20240924T191420Z
LAST-MODIFIED:20241121T174845Z
UID:9642-1747850400-1747850400@troutcreekcdd.com
SUMMARY:Trout Creek CDD – Regular Meeting May 2025
DESCRIPTION:
URL:http://troutcreekcdd.com/event/trout-creek-cdd-regular-meeting-may-2025
LOCATION:Kayak Club\, 100 Kayak Way\, St. Augustine\, FL\, 32092\, United States
END:VEVENT
BEGIN:VEVENT
DTSTART;TZID=America/New_York:20250506T130000
DTEND;TZID=America/New_York:20250506T130000
DTSTAMP:20260421T024727
CREATED:20250422T210712Z
LAST-MODIFIED:20250422T210712Z
UID:9869-1746536400-1746536400@troutcreekcdd.com
SUMMARY:Trout Creek CDD – Budget Workshop Meeting May 2025
DESCRIPTION:
URL:http://troutcreekcdd.com/event/trout-creek-cdd-budget-workshop-meeting-may-2025
LOCATION:Kayak Club\, 100 Kayak Way\, St. Augustine\, FL\, 32092\, United States
END:VEVENT
BEGIN:VEVENT
DTSTART;TZID=America/New_York:20250424T100000
DTEND;TZID=America/New_York:20250424T100000
DTSTAMP:20260421T024727
CREATED:20250314T143505Z
LAST-MODIFIED:20250422T142727Z
UID:9828-1745488800-1745488800@troutcreekcdd.com
SUMMARY:Trout Creek CDD – Budget Workshop Meeting April 2025 - Cancelled
DESCRIPTION:
URL:http://troutcreekcdd.com/event/trout-creek-cdd-budget-workshop-meeting-april-2025
LOCATION:Kayak Club\, 100 Kayak Way\, St. Augustine\, FL\, 32092\, United States
END:VEVENT
BEGIN:VEVENT
DTSTART;TZID=America/New_York:20250416T180000
DTEND;TZID=America/New_York:20250416T180000
DTSTAMP:20260421T024727
CREATED:20240924T191419Z
LAST-MODIFIED:20241121T174849Z
UID:9641-1744826400-1744826400@troutcreekcdd.com
SUMMARY:Trout Creek CDD – Regular Meeting April 2025
DESCRIPTION:
URL:http://troutcreekcdd.com/event/trout-creek-cdd-regular-meeting-april-2025
LOCATION:Kayak Club\, 100 Kayak Way\, St. Augustine\, FL\, 32092\, United States
END:VEVENT
BEGIN:VEVENT
DTSTART;TZID=America/New_York:20250401T093000
DTEND;TZID=America/New_York:20250401T093000
DTSTAMP:20260421T024727
CREATED:20250314T143331Z
LAST-MODIFIED:20250314T143549Z
UID:9824-1743499800-1743499800@troutcreekcdd.com
SUMMARY:Trout Creek CDD – Workshop Meeting April 2025
DESCRIPTION:
URL:http://troutcreekcdd.com/event/trout-creek-cdd-workshop-meeting-april-2025
LOCATION:Kayak Club\, 100 Kayak Way\, St. Augustine\, FL\, 32092\, United States
END:VEVENT
BEGIN:VEVENT
DTSTART;TZID=America/New_York:20250326T180000
DTEND;TZID=America/New_York:20250326T180000
DTSTAMP:20260421T024727
CREATED:20250116T140033Z
LAST-MODIFIED:20250116T140050Z
UID:9782-1743012000-1743012000@troutcreekcdd.com
SUMMARY:Trout Creek CDD – Special Meeting 26 March 2025
DESCRIPTION:
URL:http://troutcreekcdd.com/event/trout-creek-cdd-special-meeting-26-march-2025
LOCATION:Kayak Club\, 100 Kayak Way\, St. Augustine\, FL\, 32092\, United States
END:VEVENT
BEGIN:VEVENT
DTSTART;TZID=America/New_York:20250319T180000
DTEND;TZID=America/New_York:20250319T180000
DTSTAMP:20260421T024727
CREATED:20240924T191417Z
LAST-MODIFIED:20250116T140457Z
UID:9640-1742407200-1742407200@troutcreekcdd.com
SUMMARY:Trout Creek CDD – Regular Meeting March 2025 Cancelled
DESCRIPTION:
URL:http://troutcreekcdd.com/event/trout-creek-cdd-regular-meeting-march-2025
LOCATION:Kayak Club\, 100 Kayak Way\, St. Augustine\, FL\, 32092\, United States
END:VEVENT
BEGIN:VEVENT
DTSTART;TZID=America/New_York:20250313T100000
DTEND;TZID=America/New_York:20250313T100000
DTSTAMP:20260421T024727
CREATED:20250220T145145Z
LAST-MODIFIED:20250220T145145Z
UID:9803-1741860000-1741860000@troutcreekcdd.com
SUMMARY:Trout Creek CDD - Workshop Meeting March 2025
DESCRIPTION:
URL:http://troutcreekcdd.com/event/trout-creek-cdd-workshop-meeting-march-2025
LOCATION:Kayak Club\, 100 Kayak Way\, St. Augustine\, FL\, 32092\, United States
END:VEVENT
BEGIN:VEVENT
DTSTART;TZID=America/New_York:20250313T100000
DTEND;TZID=America/New_York:20250313T100000
DTSTAMP:20260421T024727
CREATED:20250220T145104Z
LAST-MODIFIED:20250220T145104Z
UID:9801-1741860000-1741860000@troutcreekcdd.com
SUMMARY:Trout Creek CDD - Continued Meeting March 2025
DESCRIPTION:
URL:http://troutcreekcdd.com/event/trout-creek-cdd-continued-meeting-march-2025
LOCATION:Kayak Club\, 100 Kayak Way\, St. Augustine\, FL\, 32092\, United States
END:VEVENT
BEGIN:VEVENT
DTSTART;TZID=America/New_York:20250219T180000
DTEND;TZID=America/New_York:20250219T180000
DTSTAMP:20260421T024727
CREATED:20240924T191413Z
LAST-MODIFIED:20250116T140429Z
UID:9639-1739988000-1739988000@troutcreekcdd.com
SUMMARY:Trout Creek CDD – Regular Meeting February 2025
DESCRIPTION:
URL:http://troutcreekcdd.com/event/trout-creek-cdd-regular-meeting-february-2025
LOCATION:Kayak Club\, 100 Kayak Way\, St. Augustine\, FL\, 32092\, United States
END:VEVENT
BEGIN:VEVENT
DTSTART;TZID=America/New_York:20250204T140000
DTEND;TZID=America/New_York:20250204T140000
DTSTAMP:20260421T024727
CREATED:20250116T140245Z
LAST-MODIFIED:20250116T140245Z
UID:9784-1738677600-1738677600@troutcreekcdd.com
SUMMARY:Trout Creek CDD - Public Workshop 4 February 2025
DESCRIPTION:
URL:http://troutcreekcdd.com/event/trout-creek-cdd-public-workshop-4-february-2025
LOCATION:Kayak Club\, 100 Kayak Way\, St. Augustine\, FL\, 32092\, United States
END:VEVENT
BEGIN:VEVENT
DTSTART;TZID=America/New_York:20250115T180000
DTEND;TZID=America/New_York:20250115T180000
DTSTAMP:20260421T024727
CREATED:20240924T191412Z
LAST-MODIFIED:20241121T174902Z
UID:9638-1736964000-1736964000@troutcreekcdd.com
SUMMARY:Trout Creek CDD – Regular Meeting January 2025
DESCRIPTION:
URL:http://troutcreekcdd.com/event/trout-creek-cdd-regular-meeting-january-2025
LOCATION:Kayak Club\, 100 Kayak Way\, St. Augustine\, FL\, 32092\, United States
END:VEVENT
BEGIN:VEVENT
DTSTART;TZID=America/New_York:20250106T140000
DTEND;TZID=America/New_York:20250106T140000
DTSTAMP:20260421T024727
CREATED:20241220T202027Z
LAST-MODIFIED:20241220T202102Z
UID:9752-1736172000-1736172000@troutcreekcdd.com
SUMMARY:Trout Creek CDD – Workshop January 2025
DESCRIPTION:
URL:http://troutcreekcdd.com/event/trout-creek-cdd-workshop-january-2025
LOCATION:Kayak Club\, 100 Kayak Way\, St. Augustine\, FL\, 32092\, United States
END:VEVENT
BEGIN:VEVENT
DTSTART;TZID=America/New_York:20241218T180000
DTEND;TZID=America/New_York:20241218T180000
DTSTAMP:20260421T024727
CREATED:20240924T191410Z
LAST-MODIFIED:20241210T162001Z
UID:9637-1734544800-1734544800@troutcreekcdd.com
SUMMARY:Trout Creek CDD – Regular Meeting December 2024
DESCRIPTION:
URL:http://troutcreekcdd.com/event/trout-creek-cdd-regular-meeting-december-2024
LOCATION:Kayak Club\, 100 Kayak Way\, St. Augustine\, FL\, 32092\, United States
END:VEVENT
BEGIN:VEVENT
DTSTART;TZID=America/New_York:20241204T140000
DTEND;TZID=America/New_York:20241204T140000
DTSTAMP:20260421T024727
CREATED:20241121T214051Z
LAST-MODIFIED:20241121T214123Z
UID:9727-1733320800-1733320800@troutcreekcdd.com
SUMMARY:Trout Creek CDD – Workshop December 2024
DESCRIPTION:
URL:http://troutcreekcdd.com/event/trout-creek-cdd-workshop-december-2024
LOCATION:Kayak Club\, 100 Kayak Way\, St. Augustine\, FL\, 32092\, United States
END:VEVENT
BEGIN:VEVENT
DTSTART;TZID=America/New_York:20241120T150000
DTEND;TZID=America/New_York:20241120T150000
DTSTAMP:20260421T024727
CREATED:20240924T191408Z
LAST-MODIFIED:20240924T191408Z
UID:9636-1732114800-1732114800@troutcreekcdd.com
SUMMARY:Trout Creek CDD – Regular Meeting November 2024
DESCRIPTION:
URL:http://troutcreekcdd.com/event/trout-creek-cdd-regular-meeting-november-2024
LOCATION:Kayak Club\, 100 Kayak Way\, St. Augustine\, FL\, 32092\, United States
END:VEVENT
BEGIN:VEVENT
DTSTART;TZID=America/New_York:20241016T150000
DTEND;TZID=America/New_York:20241016T150000
DTSTAMP:20260421T024727
CREATED:20240924T191407Z
LAST-MODIFIED:20240924T191407Z
UID:9635-1729090800-1729090800@troutcreekcdd.com
SUMMARY:Trout Creek CDD – Regular Meeting October 2024
DESCRIPTION:
URL:http://troutcreekcdd.com/event/trout-creek-cdd-regular-meeting-october-2024
LOCATION:Kayak Club\, 100 Kayak Way\, St. Augustine\, FL\, 32092\, United States
END:VEVENT
BEGIN:VEVENT
DTSTART;TZID=America/New_York:20240918T150000
DTEND;TZID=America/New_York:20240918T150000
DTSTAMP:20260421T024727
CREATED:20230928T163601Z
LAST-MODIFIED:20230928T163601Z
UID:9406-1726671600-1726671600@troutcreekcdd.com
SUMMARY:Trout Creek CDD - Regular Meeting  September 2024
DESCRIPTION:
URL:http://troutcreekcdd.com/event/trout-creek-cdd-regular-meeting-september-2024
LOCATION:FL
END:VEVENT
BEGIN:VEVENT
DTSTART;TZID=America/New_York:20240821T150000
DTEND;TZID=America/New_York:20240821T150000
DTSTAMP:20260421T024727
CREATED:20230928T163600Z
LAST-MODIFIED:20230928T163600Z
UID:9405-1724252400-1724252400@troutcreekcdd.com
SUMMARY:Trout Creek CDD - Regular Meeting  August 2024
DESCRIPTION:
URL:http://troutcreekcdd.com/event/trout-creek-cdd-regular-meeting-august-2024
LOCATION:FL
END:VEVENT
BEGIN:VEVENT
DTSTART;TZID=America/New_York:20240717T150000
DTEND;TZID=America/New_York:20240717T150000
DTSTAMP:20260421T024727
CREATED:20230928T163547Z
LAST-MODIFIED:20230928T163547Z
UID:9404-1721228400-1721228400@troutcreekcdd.com
SUMMARY:Trout Creek CDD - Regular Meeting  July 2024
DESCRIPTION:
URL:http://troutcreekcdd.com/event/trout-creek-cdd-regular-meeting-july-2024
LOCATION:FL
END:VEVENT
END:VCALENDAR