BEGIN:VCALENDAR
VERSION:2.0
PRODID:-//Trout Creek CDD - ECPv6.15.11//NONSGML v1.0//EN
CALSCALE:GREGORIAN
METHOD:PUBLISH
X-WR-CALNAME:Trout Creek CDD
X-ORIGINAL-URL:http://troutcreekcdd.com
X-WR-CALDESC:Events for Trout Creek CDD
REFRESH-INTERVAL;VALUE=DURATION:PT1H
X-Robots-Tag:noindex
X-PUBLISHED-TTL:PT1H
BEGIN:VTIMEZONE
TZID:America/New_York
BEGIN:DAYLIGHT
TZOFFSETFROM:-0500
TZOFFSETTO:-0400
TZNAME:EDT
DTSTART:20220313T070000
END:DAYLIGHT
BEGIN:STANDARD
TZOFFSETFROM:-0400
TZOFFSETTO:-0500
TZNAME:EST
DTSTART:20221106T060000
END:STANDARD
BEGIN:DAYLIGHT
TZOFFSETFROM:-0500
TZOFFSETTO:-0400
TZNAME:EDT
DTSTART:20230312T070000
END:DAYLIGHT
BEGIN:STANDARD
TZOFFSETFROM:-0400
TZOFFSETTO:-0500
TZNAME:EST
DTSTART:20231105T060000
END:STANDARD
BEGIN:DAYLIGHT
TZOFFSETFROM:-0500
TZOFFSETTO:-0400
TZNAME:EDT
DTSTART:20240310T070000
END:DAYLIGHT
BEGIN:STANDARD
TZOFFSETFROM:-0400
TZOFFSETTO:-0500
TZNAME:EST
DTSTART:20241103T060000
END:STANDARD
BEGIN:DAYLIGHT
TZOFFSETFROM:-0500
TZOFFSETTO:-0400
TZNAME:EDT
DTSTART:20250309T070000
END:DAYLIGHT
BEGIN:STANDARD
TZOFFSETFROM:-0400
TZOFFSETTO:-0500
TZNAME:EST
DTSTART:20251102T060000
END:STANDARD
BEGIN:DAYLIGHT
TZOFFSETFROM:-0500
TZOFFSETTO:-0400
TZNAME:EDT
DTSTART:20260308T070000
END:DAYLIGHT
BEGIN:STANDARD
TZOFFSETFROM:-0400
TZOFFSETTO:-0500
TZNAME:EST
DTSTART:20261101T060000
END:STANDARD
END:VTIMEZONE
BEGIN:VEVENT
DTSTART;TZID=America/New_York:20250204T140000
DTEND;TZID=America/New_York:20250204T140000
DTSTAMP:20260421T061803
CREATED:20250116T140245Z
LAST-MODIFIED:20250116T140245Z
UID:9784-1738677600-1738677600@troutcreekcdd.com
SUMMARY:Trout Creek CDD - Public Workshop 4 February 2025
DESCRIPTION:
URL:http://troutcreekcdd.com/event/trout-creek-cdd-public-workshop-4-february-2025
LOCATION:Kayak Club\, 100 Kayak Way\, St. Augustine\, FL\, 32092\, United States
END:VEVENT
BEGIN:VEVENT
DTSTART;TZID=America/New_York:20250115T180000
DTEND;TZID=America/New_York:20250115T180000
DTSTAMP:20260421T061803
CREATED:20240924T191412Z
LAST-MODIFIED:20241121T174902Z
UID:9638-1736964000-1736964000@troutcreekcdd.com
SUMMARY:Trout Creek CDD – Regular Meeting January 2025
DESCRIPTION:
URL:http://troutcreekcdd.com/event/trout-creek-cdd-regular-meeting-january-2025
LOCATION:Kayak Club\, 100 Kayak Way\, St. Augustine\, FL\, 32092\, United States
END:VEVENT
BEGIN:VEVENT
DTSTART;TZID=America/New_York:20250106T140000
DTEND;TZID=America/New_York:20250106T140000
DTSTAMP:20260421T061803
CREATED:20241220T202027Z
LAST-MODIFIED:20241220T202102Z
UID:9752-1736172000-1736172000@troutcreekcdd.com
SUMMARY:Trout Creek CDD – Workshop January 2025
DESCRIPTION:
URL:http://troutcreekcdd.com/event/trout-creek-cdd-workshop-january-2025
LOCATION:Kayak Club\, 100 Kayak Way\, St. Augustine\, FL\, 32092\, United States
END:VEVENT
BEGIN:VEVENT
DTSTART;TZID=America/New_York:20241218T180000
DTEND;TZID=America/New_York:20241218T180000
DTSTAMP:20260421T061803
CREATED:20240924T191410Z
LAST-MODIFIED:20241210T162001Z
UID:9637-1734544800-1734544800@troutcreekcdd.com
SUMMARY:Trout Creek CDD – Regular Meeting December 2024
DESCRIPTION:
URL:http://troutcreekcdd.com/event/trout-creek-cdd-regular-meeting-december-2024
LOCATION:Kayak Club\, 100 Kayak Way\, St. Augustine\, FL\, 32092\, United States
END:VEVENT
BEGIN:VEVENT
DTSTART;TZID=America/New_York:20241204T140000
DTEND;TZID=America/New_York:20241204T140000
DTSTAMP:20260421T061803
CREATED:20241121T214051Z
LAST-MODIFIED:20241121T214123Z
UID:9727-1733320800-1733320800@troutcreekcdd.com
SUMMARY:Trout Creek CDD – Workshop December 2024
DESCRIPTION:
URL:http://troutcreekcdd.com/event/trout-creek-cdd-workshop-december-2024
LOCATION:Kayak Club\, 100 Kayak Way\, St. Augustine\, FL\, 32092\, United States
END:VEVENT
BEGIN:VEVENT
DTSTART;TZID=America/New_York:20241120T150000
DTEND;TZID=America/New_York:20241120T150000
DTSTAMP:20260421T061803
CREATED:20240924T191408Z
LAST-MODIFIED:20240924T191408Z
UID:9636-1732114800-1732114800@troutcreekcdd.com
SUMMARY:Trout Creek CDD – Regular Meeting November 2024
DESCRIPTION:
URL:http://troutcreekcdd.com/event/trout-creek-cdd-regular-meeting-november-2024
LOCATION:Kayak Club\, 100 Kayak Way\, St. Augustine\, FL\, 32092\, United States
END:VEVENT
BEGIN:VEVENT
DTSTART;TZID=America/New_York:20241016T150000
DTEND;TZID=America/New_York:20241016T150000
DTSTAMP:20260421T061803
CREATED:20240924T191407Z
LAST-MODIFIED:20240924T191407Z
UID:9635-1729090800-1729090800@troutcreekcdd.com
SUMMARY:Trout Creek CDD – Regular Meeting October 2024
DESCRIPTION:
URL:http://troutcreekcdd.com/event/trout-creek-cdd-regular-meeting-october-2024
LOCATION:Kayak Club\, 100 Kayak Way\, St. Augustine\, FL\, 32092\, United States
END:VEVENT
BEGIN:VEVENT
DTSTART;TZID=America/New_York:20240918T150000
DTEND;TZID=America/New_York:20240918T150000
DTSTAMP:20260421T061803
CREATED:20230928T163601Z
LAST-MODIFIED:20230928T163601Z
UID:9406-1726671600-1726671600@troutcreekcdd.com
SUMMARY:Trout Creek CDD - Regular Meeting  September 2024
DESCRIPTION:
URL:http://troutcreekcdd.com/event/trout-creek-cdd-regular-meeting-september-2024
LOCATION:FL
END:VEVENT
BEGIN:VEVENT
DTSTART;TZID=America/New_York:20240821T150000
DTEND;TZID=America/New_York:20240821T150000
DTSTAMP:20260421T061803
CREATED:20230928T163600Z
LAST-MODIFIED:20230928T163600Z
UID:9405-1724252400-1724252400@troutcreekcdd.com
SUMMARY:Trout Creek CDD - Regular Meeting  August 2024
DESCRIPTION:
URL:http://troutcreekcdd.com/event/trout-creek-cdd-regular-meeting-august-2024
LOCATION:FL
END:VEVENT
BEGIN:VEVENT
DTSTART;TZID=America/New_York:20240717T150000
DTEND;TZID=America/New_York:20240717T150000
DTSTAMP:20260421T061803
CREATED:20230928T163547Z
LAST-MODIFIED:20230928T163547Z
UID:9404-1721228400-1721228400@troutcreekcdd.com
SUMMARY:Trout Creek CDD - Regular Meeting  July 2024
DESCRIPTION:
URL:http://troutcreekcdd.com/event/trout-creek-cdd-regular-meeting-july-2024
LOCATION:FL
END:VEVENT
BEGIN:VEVENT
DTSTART;TZID=America/New_York:20240710T100000
DTEND;TZID=America/New_York:20240710T100000
DTSTAMP:20260421T061803
CREATED:20240516T160915Z
LAST-MODIFIED:20240624T182129Z
UID:9537-1720605600-1720605600@troutcreekcdd.com
SUMMARY:Trout Creek CDD - Special Board of Supervisors Meeting and Budget Workshop July 2024
DESCRIPTION:
URL:http://troutcreekcdd.com/event/trout-creek-cdd-budget-workshop-july-2024
LOCATION:Kayak Club\, 100 Kayak Way\, St. Augustine\, FL\, 32092\, United States
END:VEVENT
BEGIN:VEVENT
DTSTART;TZID=America/New_York:20240626T150000
DTEND;TZID=America/New_York:20240626T150000
DTSTAMP:20260421T061803
CREATED:20240624T181513Z
LAST-MODIFIED:20240624T181513Z
UID:9555-1719414000-1719414000@troutcreekcdd.com
SUMMARY:Cancelled - Trout Creek CDD – Continued Board of Supervisors Meeting June 2024
DESCRIPTION:
URL:http://troutcreekcdd.com/event/cancelled-trout-creek-cdd-continued-board-of-supervisors-meeting-june-2024
LOCATION:FL
END:VEVENT
BEGIN:VEVENT
DTSTART;TZID=America/New_York:20240619T150000
DTEND;TZID=America/New_York:20240619T150000
DTSTAMP:20260421T061803
CREATED:20230928T163546Z
LAST-MODIFIED:20230928T163546Z
UID:9403-1718809200-1718809200@troutcreekcdd.com
SUMMARY:Trout Creek CDD - Regular Meeting  June 2024
DESCRIPTION:
URL:http://troutcreekcdd.com/event/trout-creek-cdd-regular-meeting-june-2024
LOCATION:FL
END:VEVENT
BEGIN:VEVENT
DTSTART;TZID=America/New_York:20240515T150000
DTEND;TZID=America/New_York:20240515T150000
DTSTAMP:20260421T061803
CREATED:20230928T163544Z
LAST-MODIFIED:20230928T163544Z
UID:9402-1715785200-1715785200@troutcreekcdd.com
SUMMARY:Trout Creek CDD - Regular Meeting  May 2024
DESCRIPTION:
URL:http://troutcreekcdd.com/event/trout-creek-cdd-regular-meeting-may-2024
LOCATION:FL
END:VEVENT
BEGIN:VEVENT
DTSTART;TZID=America/New_York:20240424T100000
DTEND;TZID=America/New_York:20240424T100000
DTSTAMP:20260421T061803
CREATED:20240325T180217Z
LAST-MODIFIED:20240325T180217Z
UID:9507-1713952800-1713952800@troutcreekcdd.com
SUMMARY:Trout Creek CDD – Budget Workshop April 2024
DESCRIPTION:
URL:http://troutcreekcdd.com/event/trout-creek-cdd-budget-workshop-april-2024
LOCATION:FL
END:VEVENT
BEGIN:VEVENT
DTSTART;TZID=America/New_York:20240417T150000
DTEND;TZID=America/New_York:20240417T150000
DTSTAMP:20260421T061803
CREATED:20230928T163542Z
LAST-MODIFIED:20230928T163542Z
UID:9401-1713366000-1713366000@troutcreekcdd.com
SUMMARY:Trout Creek CDD - Regular Meeting  April 2024
DESCRIPTION:
URL:http://troutcreekcdd.com/event/trout-creek-cdd-regular-meeting-april-2024
LOCATION:FL
END:VEVENT
BEGIN:VEVENT
DTSTART;TZID=America/New_York:20240320T150000
DTEND;TZID=America/New_York:20240320T150000
DTSTAMP:20260421T061803
CREATED:20230928T163540Z
LAST-MODIFIED:20230928T163540Z
UID:9400-1710946800-1710946800@troutcreekcdd.com
SUMMARY:Trout Creek CDD - Regular Meeting  March 2024
DESCRIPTION:
URL:http://troutcreekcdd.com/event/trout-creek-cdd-regular-meeting-march-2024
LOCATION:FL
END:VEVENT
BEGIN:VEVENT
DTSTART;TZID=America/New_York:20240221T150000
DTEND;TZID=America/New_York:20240221T150000
DTSTAMP:20260421T061803
CREATED:20230928T163536Z
LAST-MODIFIED:20230928T163536Z
UID:9399-1708527600-1708527600@troutcreekcdd.com
SUMMARY:Trout Creek CDD - Regular Meeting  February 2024
DESCRIPTION:
URL:http://troutcreekcdd.com/event/trout-creek-cdd-regular-meeting-february-2024
LOCATION:FL
END:VEVENT
BEGIN:VEVENT
DTSTART;TZID=America/New_York:20240117T150000
DTEND;TZID=America/New_York:20240117T150000
DTSTAMP:20260421T061803
CREATED:20230928T163534Z
LAST-MODIFIED:20230928T163534Z
UID:9398-1705503600-1705503600@troutcreekcdd.com
SUMMARY:Trout Creek CDD - Regular Meeting  January 2024
DESCRIPTION:
URL:http://troutcreekcdd.com/event/trout-creek-cdd-regular-meeting-january-2024
LOCATION:FL
END:VEVENT
BEGIN:VEVENT
DTSTART;TZID=America/New_York:20231220T150000
DTEND;TZID=America/New_York:20231220T150000
DTSTAMP:20260421T061803
CREATED:20230928T163533Z
LAST-MODIFIED:20230928T163533Z
UID:9397-1703084400-1703084400@troutcreekcdd.com
SUMMARY:Trout Creek CDD - Regular Meeting  December 2023
DESCRIPTION:
URL:http://troutcreekcdd.com/event/trout-creek-cdd-regular-meeting-december-2023
LOCATION:FL
END:VEVENT
BEGIN:VEVENT
DTSTART;TZID=America/New_York:20231116T150000
DTEND;TZID=America/New_York:20231116T150000
DTSTAMP:20260421T061803
CREATED:20230928T163530Z
LAST-MODIFIED:20231019T183546Z
UID:9396-1700146800-1700146800@troutcreekcdd.com
SUMMARY:Trout Creek CDD - Regular Meeting  November 2023
DESCRIPTION:
URL:http://troutcreekcdd.com/event/trout-creek-cdd-regular-meeting-november-2023
LOCATION:FL
END:VEVENT
BEGIN:VEVENT
DTSTART;TZID=America/New_York:20231018T150000
DTEND;TZID=America/New_York:20231018T150000
DTSTAMP:20260421T061803
CREATED:20230928T163529Z
LAST-MODIFIED:20230928T163529Z
UID:9395-1697641200-1697641200@troutcreekcdd.com
SUMMARY:Trout Creek CDD - Regular Meeting  October 2023
DESCRIPTION:
URL:http://troutcreekcdd.com/event/trout-creek-cdd-regular-meeting-october-2023
LOCATION:FL
END:VEVENT
BEGIN:VEVENT
DTSTART;TZID=America/New_York:20230920T150000
DTEND;TZID=America/New_York:20230920T150000
DTSTAMP:20260421T061803
CREATED:20221003T190609Z
LAST-MODIFIED:20221003T190609Z
UID:9201-1695222000-1695222000@troutcreekcdd.com
SUMMARY:Trout Creek CDD - Regular Meeting September 2023
DESCRIPTION:
URL:http://troutcreekcdd.com/event/trout-creek-cdd-regular-meeting-september-2023
LOCATION:Kayak Club\, 100 Kayak Way\, St. Augustine\, FL\, 32092\, United States
END:VEVENT
BEGIN:VEVENT
DTSTART;TZID=America/New_York:20230816T150000
DTEND;TZID=America/New_York:20230816T150000
DTSTAMP:20260421T061803
CREATED:20221003T190607Z
LAST-MODIFIED:20221004T160830Z
UID:9200-1692198000-1692198000@troutcreekcdd.com
SUMMARY:Trout Creek CDD - Regular Meeting August 2023
DESCRIPTION:
URL:http://troutcreekcdd.com/event/trout-creek-cdd-regular-meeting-august-2023
LOCATION:Kayak Club\, 100 Kayak Way\, St. Augustine\, FL\, 32092\, United States
END:VEVENT
BEGIN:VEVENT
DTSTART;TZID=America/New_York:20230719T150000
DTEND;TZID=America/New_York:20230719T150000
DTSTAMP:20260421T061803
CREATED:20221003T190558Z
LAST-MODIFIED:20221003T190558Z
UID:9199-1689778800-1689778800@troutcreekcdd.com
SUMMARY:Trout Creek CDD - Regular Meeting July 2023
DESCRIPTION:
URL:http://troutcreekcdd.com/event/trout-creek-cdd-regular-meeting-july-2023
LOCATION:Kayak Club\, 100 Kayak Way\, St. Augustine\, FL\, 32092\, United States
END:VEVENT
BEGIN:VEVENT
DTSTART;TZID=America/New_York:20230621T150000
DTEND;TZID=America/New_York:20230621T150000
DTSTAMP:20260421T061803
CREATED:20221003T190556Z
LAST-MODIFIED:20221003T190556Z
UID:9198-1687359600-1687359600@troutcreekcdd.com
SUMMARY:Trout Creek CDD - Regular Meeting June 2023
DESCRIPTION:
URL:http://troutcreekcdd.com/event/trout-creek-cdd-regular-meeting-june-2023
LOCATION:Kayak Club\, 100 Kayak Way\, St. Augustine\, FL\, 32092\, United States
END:VEVENT
BEGIN:VEVENT
DTSTART;TZID=America/New_York:20230517T150000
DTEND;TZID=America/New_York:20230517T150000
DTSTAMP:20260421T061803
CREATED:20221003T190555Z
LAST-MODIFIED:20221004T160807Z
UID:9197-1684335600-1684335600@troutcreekcdd.com
SUMMARY:Trout Creek CDD - Regular Meeting May 2023
DESCRIPTION:
URL:http://troutcreekcdd.com/event/trout-creek-cdd-regular-meeting-may-2023
LOCATION:Kayak Club\, 100 Kayak Way\, St. Augustine\, FL\, 32092\, United States
END:VEVENT
BEGIN:VEVENT
DTSTART;TZID=America/New_York:20230419T150000
DTEND;TZID=America/New_York:20230419T150000
DTSTAMP:20260421T061803
CREATED:20221003T190554Z
LAST-MODIFIED:20221003T190554Z
UID:9196-1681916400-1681916400@troutcreekcdd.com
SUMMARY:Trout Creek CDD - Regular Meeting April 2023
DESCRIPTION:
URL:http://troutcreekcdd.com/event/trout-creek-cdd-regular-meeting-april-2023
LOCATION:Kayak Club\, 100 Kayak Way\, St. Augustine\, FL\, 32092\, United States
END:VEVENT
BEGIN:VEVENT
DTSTART;TZID=America/New_York:20230315T150000
DTEND;TZID=America/New_York:20230315T150000
DTSTAMP:20260421T061803
CREATED:20221003T190552Z
LAST-MODIFIED:20221003T190552Z
UID:9195-1678892400-1678892400@troutcreekcdd.com
SUMMARY:Trout Creek CDD - Regular Meeting March 2023
DESCRIPTION:
URL:http://troutcreekcdd.com/event/trout-creek-cdd-regular-meeting-march-2023
LOCATION:Kayak Club\, 100 Kayak Way\, St. Augustine\, FL\, 32092\, United States
END:VEVENT
BEGIN:VEVENT
DTSTART;TZID=America/New_York:20230215T150000
DTEND;TZID=America/New_York:20230215T150000
DTSTAMP:20260421T061803
CREATED:20221003T190547Z
LAST-MODIFIED:20221003T190547Z
UID:9194-1676473200-1676473200@troutcreekcdd.com
SUMMARY:Trout Creek CDD - Regular Meeting February 2023
DESCRIPTION:
URL:http://troutcreekcdd.com/event/trout-creek-cdd-regular-meeting-february-2023
LOCATION:Kayak Club\, 100 Kayak Way\, St. Augustine\, FL\, 32092\, United States
END:VEVENT
END:VCALENDAR